BEGIN:VCALENDAR
VERSION:2.0
PRODID:-//Colouring Dreams - ECPv6.15.20//NONSGML v1.0//EN
CALSCALE:GREGORIAN
METHOD:PUBLISH
X-ORIGINAL-URL:https://colouringdreams.ceukz1.org
X-WR-CALDESC:Events for Colouring Dreams
REFRESH-INTERVAL;VALUE=DURATION:PT1H
X-Robots-Tag:noindex
X-PUBLISHED-TTL:PT1H
BEGIN:VTIMEZONE
TZID:UTC
BEGIN:STANDARD
TZOFFSETFROM:+0000
TZOFFSETTO:+0000
TZNAME:UTC
DTSTART:20210101T000000
END:STANDARD
END:VTIMEZONE
BEGIN:VEVENT
DTSTART;TZID=UTC:20220521T140000
DTEND;TZID=UTC:20220521T180000
DTSTAMP:20260424T155227
CREATED:20200317T033032Z
LAST-MODIFIED:20200317T033032Z
UID:515-1653141600-1653156000@colouringdreams.ceukz1.org
SUMMARY:Colouring Dreams Live Broadcast
DESCRIPTION:[vc_row][vc_column][vc_column_text]COLOURING DREAMS is a celebration of the ICM Partnership. A fundraising event to help raise funds for indigent children and their families using our current ICM Global Initiatives. \nIt is an event of the InnerCity Mission. Its purpose is to colour the lives of indigent children and their families. \nCOLOURING DREAMS FOR ICM IS LIKE THE RHAPATHON FOR RHAPSODY. \nWe aim to raise a minimum of £150\,000. \nCOLOURING DREAMS’ main event starts from 16TH to 22ND MAY\, but our fundraising campaigns and sponsored activities have already commenced. \nThere will be a LIVE EVENT on the 21st (The main day of focus).[/vc_column_text][/vc_column][/vc_row]
URL:https://colouringdreams.ceukz1.org/event/colouring-dreams-live-broadcast/
LOCATION:Christ Embassy Catford\, Christ Embassy Zonal Studio\, London\, SE8 5AD\, United Kingdom
CATEGORIES:Seminars
ATTACH;FMTTYPE=image/jpeg:https://colouringdreams.ceukz1.org/wp-content/uploads/2021/03/WhatsApp-Image-2022-04-23-at-3.31.35-PM-e1650990504547.jpeg
ORGANIZER;CN="InnerCity Missions":MAILTO:icm@christembassyukz1.org
END:VEVENT
BEGIN:VEVENT
DTSTART;TZID=UTC:20260304T080000
DTEND;TZID=UTC:20260404T170000
DTSTAMP:20260424T155227
CREATED:20210317T033125Z
LAST-MODIFIED:20210317T033125Z
UID:518-1772611200-1775322000@colouringdreams.ceukz1.org
SUMMARY:Architecture Club meetup
DESCRIPTION:Sed ut perspiciatis unde omnis iste natus error sit voluptatem accusantium doloremque laudantium\, totam rem aperiam\, eaque ipsa quae ab illo. \nSed ut perspiciatis unde omnis iste natus error sit voluptatem accusantium doloremque laudantium\, totam rem aperiam\, eaque ipsa quae ab illo inventore veritatis et quasi architecto beatae vitae dicta sunt explicabo. Nemo enim ipsam voluptatem quia voluptas sit aspernatur aut odit aut fugit\, sed quia consequuntur magni dolores eos qui ratione voluptatem sequi nesciunt.
URL:https://colouringdreams.ceukz1.org/event/architecture-club-meet-up/
LOCATION:New York\, 8 King Street\, NY\, 101\, United States
ATTACH;FMTTYPE=image/jpeg:https://colouringdreams.ceukz1.org/wp-content/uploads/2021/03/event-6-3.jpg
ORGANIZER;CN="Gary Jones":MAILTO:halpes@example.com
END:VEVENT
BEGIN:VEVENT
DTSTART;TZID=UTC:20260509T000000
DTEND;TZID=UTC:20260509T000000
DTSTAMP:20260424T155227
CREATED:20210304T030315Z
LAST-MODIFIED:20210304T030315Z
UID:440-1778284800-1778284800@colouringdreams.ceukz1.org
SUMMARY:Festival of Architecture and Interior
DESCRIPTION:Sed ut perspiciatis unde omnis iste natus error sit voluptatem accusantium doloremque laudantium\, totam rem aperiam\, eaque ipsa quae ab illo. \nSed ut perspiciatis unde omnis iste natus error sit voluptatem accusantium doloremque laudantium\, totam rem aperiam\, eaque ipsa quae ab illo inventore veritatis et quasi architecto beatae vitae dicta sunt explicabo. Nemo enim ipsam voluptatem quia voluptas sit aspernatur aut odit aut fugit\, sed quia consequuntur magni dolores eos qui ratione voluptatem sequi nesciunt.
URL:https://colouringdreams.ceukz1.org/event/festival-of-architecture-and-interior/
LOCATION:New York\, 8 King Street\, NY\, 101\, United States
CATEGORIES:Seminars
ATTACH;FMTTYPE=image/jpeg:https://colouringdreams.ceukz1.org/wp-content/uploads/2021/03/event-4-3.jpg
ORGANIZER;CN="Gary Jones":MAILTO:halpes@example.com
END:VEVENT
BEGIN:VEVENT
DTSTART;TZID=UTC:20260509T080000
DTEND;TZID=UTC:20260509T170000
DTSTAMP:20260424T155227
CREATED:20210304T031114Z
LAST-MODIFIED:20210304T031114Z
UID:446-1778313600-1778346000@colouringdreams.ceukz1.org
SUMMARY:Designing Club Culture
DESCRIPTION:Sed ut perspiciatis unde omnis iste natus error sit voluptatem accusantium doloremque laudantium\, totam rem aperiam\, eaque ipsa quae ab illo. \nSed ut perspiciatis unde omnis iste natus error sit voluptatem accusantium doloremque laudantium\, totam rem aperiam\, eaque ipsa quae ab illo inventore veritatis et quasi architecto beatae vitae dicta sunt explicabo. Nemo enim ipsam voluptatem quia voluptas sit aspernatur aut odit aut fugit\, sed quia consequuntur magni dolores eos qui ratione voluptatem sequi nesciunt.
URL:https://colouringdreams.ceukz1.org/event/designing-club-culture/
LOCATION:New York\, 8 King Street\, NY\, 101\, United States
CATEGORIES:Seminars
ATTACH;FMTTYPE=image/jpeg:https://colouringdreams.ceukz1.org/wp-content/uploads/2021/03/event-1-3.jpg
ORGANIZER;CN="Gary Jones":MAILTO:halpes@example.com
END:VEVENT
BEGIN:VEVENT
DTSTART;TZID=UTC:20260509T080000
DTEND;TZID=UTC:20260509T170000
DTSTAMP:20260424T155227
CREATED:20210304T031217Z
LAST-MODIFIED:20210304T031217Z
UID:447-1778313600-1778346000@colouringdreams.ceukz1.org
SUMMARY:Nairobi Design Week
DESCRIPTION:Sed ut perspiciatis unde omnis iste natus error sit voluptatem accusantium doloremque laudantium\, totam rem aperiam\, eaque ipsa quae ab illo. \nSed ut perspiciatis unde omnis iste natus error sit voluptatem accusantium doloremque laudantium\, totam rem aperiam\, eaque ipsa quae ab illo inventore veritatis et quasi architecto beatae vitae dicta sunt explicabo. Nemo enim ipsam voluptatem quia voluptas sit aspernatur aut odit aut fugit\, sed quia consequuntur magni dolores eos qui ratione voluptatem sequi nesciunt.
URL:https://colouringdreams.ceukz1.org/event/nairobi-design-week/
LOCATION:New York\, 8 King Street\, NY\, 101\, United States
CATEGORIES:Seminars
ATTACH;FMTTYPE=image/jpeg:https://colouringdreams.ceukz1.org/wp-content/uploads/2021/03/event-3-3.jpg
ORGANIZER;CN="Gary Jones":MAILTO:halpes@example.com
END:VEVENT
BEGIN:VEVENT
DTSTART;TZID=UTC:20260509T080000
DTEND;TZID=UTC:20260509T170000
DTSTAMP:20260424T155227
CREATED:20210304T031301Z
LAST-MODIFIED:20210304T031301Z
UID:448-1778313600-1778346000@colouringdreams.ceukz1.org
SUMMARY:International Architecture 2022
DESCRIPTION:Sed ut perspiciatis unde omnis iste natus error sit voluptatem accusantium doloremque laudantium\, totam rem aperiam\, eaque ipsa quae ab illo. \nSed ut perspiciatis unde omnis iste natus error sit voluptatem accusantium doloremque laudantium\, totam rem aperiam\, eaque ipsa quae ab illo inventore veritatis et quasi architecto beatae vitae dicta sunt explicabo. Nemo enim ipsam voluptatem quia voluptas sit aspernatur aut odit aut fugit\, sed quia consequuntur magni dolores eos qui ratione voluptatem sequi nesciunt.
URL:https://colouringdreams.ceukz1.org/event/international-architecture-2022/
LOCATION:New York\, 8 King Street\, NY\, 101\, United States
CATEGORIES:Seminars
ATTACH;FMTTYPE=image/jpeg:https://colouringdreams.ceukz1.org/wp-content/uploads/2021/03/event-2-3.jpg
ORGANIZER;CN="Gary Jones":MAILTO:halpes@example.com
END:VEVENT
BEGIN:VEVENT
DTSTART;TZID=UTC:20260509T080000
DTEND;TZID=UTC:20260509T170000
DTSTAMP:20260424T155227
CREATED:20210317T033032Z
LAST-MODIFIED:20210317T033032Z
UID:1895-1778313600-1778346000@colouringdreams.ceukz1.org
SUMMARY:Architecture Week
DESCRIPTION:Sed ut perspiciatis unde omnis iste natus error sit voluptatem accusantium doloremque laudantium\, totam rem aperiam\, eaque ipsa quae ab illo. \nSed ut perspiciatis unde omnis iste natus error sit voluptatem accusantium doloremque laudantium\, totam rem aperiam\, eaque ipsa quae ab illo inventore veritatis et quasi architecto beatae vitae dicta sunt explicabo. Nemo enim ipsam voluptatem quia voluptas sit aspernatur aut odit aut fugit\, sed quia consequuntur magni dolores eos qui ratione voluptatem sequi nesciunt.
URL:https://colouringdreams.ceukz1.org/event/architecture-interior-week/
LOCATION:New York\, 8 King Street\, NY\, 101\, United States
CATEGORIES:Seminars
ATTACH;FMTTYPE=image/jpeg:https://colouringdreams.ceukz1.org/wp-content/uploads/2021/03/event-5-3.jpg
ORGANIZER;CN="Gary Jones":MAILTO:halpes@example.com
END:VEVENT
END:VCALENDAR